Package: switchde Version: 1.35.0 Command: /Library/Frameworks/R.framework/Resources/bin/R CMD build --keep-empty-dirs --no-resave-data switchde StartedAt: 2025-07-11 17:43:53 -0400 (Fri, 11 Jul 2025) EndedAt: 2025-07-11 17:44:09 -0400 (Fri, 11 Jul 2025) EllapsedTime: 16.2 seconds RetCode: 0 Status: OK PackageFile: switchde_1.35.0.tar.gz PackageFileSize: 1.032 MiB