Package: switchde Version: 1.35.0 Command: rm -rf switchde.buildbin-libdir && mkdir switchde.buildbin-libdir && /Users/biocbuild/BBS/utils/build-universal.sh switchde_1.35.0.tar.gz /Library/Frameworks/R.framework/Resources/bin/R switchde.buildbin-libdir StartedAt: 2025-07-11 22:38:05 -0400 (Fri, 11 Jul 2025) EndedAt: 2025-07-11 22:38:17 -0400 (Fri, 11 Jul 2025) EllapsedTime: 11.2 seconds RetCode: 0 Status: OK PackageFile: switchde_1.35.0.tgz PackageFileSize: 1.074 MiB