Package: svaNUMT Version: 1.15.0 Command: F:\biocbuild\bbs-3.22-bioc\R\bin\R.exe CMD INSTALL svaNUMT StartedAt: 2025-07-14 16:47:56 -0400 (Mon, 14 Jul 2025) EndedAt: 2025-07-14 16:48:42 -0400 (Mon, 14 Jul 2025) EllapsedTime: 46.5 seconds RetCode: 0 Status: OK