Package: svaNUMT Version: 1.15.0 Command: chmod a+r svaNUMT -R && F:\biocbuild\bbs-3.22-bioc\R\bin\R.exe CMD build --keep-empty-dirs --no-resave-data svaNUMT StartedAt: 2025-07-14 22:29:35 -0400 (Mon, 14 Jul 2025) EndedAt: 2025-07-14 22:30:39 -0400 (Mon, 14 Jul 2025) EllapsedTime: 64.1 seconds RetCode: 1 Status: ERROR PackageFile: None PackageFileSize: NA