Package: svaNUMT Version: 1.15.1 Command: /Library/Frameworks/R.framework/Resources/bin/R CMD INSTALL svaNUMT StartedAt: 2025-10-03 15:27:14 -0400 (Fri, 03 Oct 2025) EndedAt: 2025-10-03 15:27:30 -0400 (Fri, 03 Oct 2025) EllapsedTime: 15.7 seconds RetCode: 0 Status: OK