Package: svaNUMT Version: 1.15.1 Command: /Library/Frameworks/R.framework/Resources/bin/R CMD build --keep-empty-dirs --no-resave-data svaNUMT StartedAt: 2025-10-05 17:57:01 -0400 (Sun, 05 Oct 2025) EndedAt: 2025-10-05 17:57:30 -0400 (Sun, 05 Oct 2025) EllapsedTime: 29.3 seconds RetCode: 0 Status: OK PackageFile: svaNUMT_1.15.1.tar.gz PackageFileSize: 818.4 KiB