Package: sva Version: 3.57.0 Command: /home/biocbuild/R/R/bin/R CMD check --install=check:sva.install-out.txt --library=/home/biocbuild/R/R/site-library --no-vignettes --timings sva_3.57.0.tar.gz StartedAt: 2025-07-01 12:18:50 -0000 (Tue, 01 Jul 2025) EndedAt: 2025-07-01 12:58:50 -0000 (Tue, 01 Jul 2025) EllapsedTime: 2400.7 seconds RetCode: None Status: TIMEOUT CheckDir: sva.Rcheck Warnings: NA