Package: sva Version: 3.57.0 Command: F:\biocbuild\bbs-3.22-bioc\R\bin\R.exe CMD check --no-multiarch --install=check:sva.install-out.txt --library=F:\biocbuild\bbs-3.22-bioc\R\library --no-vignettes --timings sva_3.57.0.tar.gz StartedAt: 2025-07-15 07:15:28 -0400 (Tue, 15 Jul 2025) EndedAt: 2025-07-15 07:19:48 -0400 (Tue, 15 Jul 2025) EllapsedTime: 260.6 seconds RetCode: 0 Status: OK CheckDir: sva.Rcheck Warnings: 0