Package: sva Version: 3.57.0 Command: /Library/Frameworks/R.framework/Resources/bin/R CMD build --keep-empty-dirs --no-resave-data sva StartedAt: 2025-07-20 18:46:25 -0400 (Sun, 20 Jul 2025) EndedAt: 2025-07-20 18:47:29 -0400 (Sun, 20 Jul 2025) EllapsedTime: 63.8 seconds RetCode: 0 Status: OK PackageFile: sva_3.57.0.tar.gz PackageFileSize: 441.7 KiB