Package: sva Version: 3.57.0 Command: /Library/Frameworks/R.framework/Resources/bin/R CMD INSTALL sva StartedAt: 2025-07-22 15:14:46 -0400 (Tue, 22 Jul 2025) EndedAt: 2025-07-22 15:14:54 -0400 (Tue, 22 Jul 2025) EllapsedTime: 7.9 seconds RetCode: 0 Status: OK