Package: sva Version: 3.57.0 Command: /Library/Frameworks/R.framework/Resources/bin/R CMD check --install=check:sva.install-out.txt --library=/Library/Frameworks/R.framework/Resources/library --no-vignettes --timings sva_3.57.0.tar.gz StartedAt: 2025-07-22 21:47:51 -0400 (Tue, 22 Jul 2025) EndedAt: 2025-07-22 21:49:10 -0400 (Tue, 22 Jul 2025) EllapsedTime: 78.9 seconds RetCode: 0 Status: OK CheckDir: sva.Rcheck Warnings: 0