Package: sva Version: 3.57.0 Command: /Library/Frameworks/R.framework/Resources/bin/R CMD build --keep-empty-dirs --no-resave-data sva StartedAt: 2025-07-22 17:43:40 -0400 (Tue, 22 Jul 2025) EndedAt: 2025-07-22 17:44:06 -0400 (Tue, 22 Jul 2025) EllapsedTime: 26.3 seconds RetCode: 0 Status: OK PackageFile: sva_3.57.0.tar.gz PackageFileSize: 442.3 KiB