Package: survcomp Version: 1.59.0 Command: /Library/Frameworks/R.framework/Resources/bin/R CMD INSTALL survcomp StartedAt: 2025-07-14 15:19:33 -0400 (Mon, 14 Jul 2025) EndedAt: 2025-07-14 15:19:53 -0400 (Mon, 14 Jul 2025) EllapsedTime: 19.7 seconds RetCode: 0 Status: OK