Package: survcomp Version: 1.59.0 Command: /Library/Frameworks/R.framework/Resources/bin/R CMD build --keep-empty-dirs --no-resave-data survcomp StartedAt: 2025-07-14 18:45:20 -0400 (Mon, 14 Jul 2025) EndedAt: 2025-07-14 18:45:44 -0400 (Mon, 14 Jul 2025) EllapsedTime: 23.9 seconds RetCode: 0 Status: OK PackageFile: survcomp_1.59.0.tar.gz PackageFileSize: 637 KiB