Package: survcomp Version: 1.59.0 Command: rm -rf survcomp.buildbin-libdir && mkdir survcomp.buildbin-libdir && /Users/biocbuild/BBS/utils/build-universal.sh survcomp_1.59.0.tar.gz /Library/Frameworks/R.framework/Resources/bin/R survcomp.buildbin-libdir StartedAt: 2025-07-15 01:23:46 -0400 (Tue, 15 Jul 2025) EndedAt: 2025-07-15 01:24:04 -0400 (Tue, 15 Jul 2025) EllapsedTime: 18.6 seconds RetCode: 0 Status: OK PackageFile: survcomp_1.59.0.tgz PackageFileSize: 833.1 KiB