Package: surfaltr Version: 1.15.0 Command: /home/biocbuild/R/R/bin/R CMD build --keep-empty-dirs --no-resave-data surfaltr StartedAt: 2025-10-03 03:39:45 -0000 (Fri, 03 Oct 2025) EndedAt: 2025-10-03 03:40:21 -0000 (Fri, 03 Oct 2025) EllapsedTime: 36.0 seconds RetCode: 0 Status: OK PackageFile: surfaltr_1.15.0.tar.gz PackageFileSize: 3.118 MiB