Package: surfaltr Version: 1.15.0 Command: /Library/Frameworks/R.framework/Resources/bin/R CMD check --install=check:surfaltr.install-out.txt --library=/Library/Frameworks/R.framework/Resources/library --no-vignettes --timings surfaltr_1.15.0.tar.gz StartedAt: 2025-07-23 00:07:58 -0400 (Wed, 23 Jul 2025) EndedAt: 2025-07-23 00:10:16 -0400 (Wed, 23 Jul 2025) EllapsedTime: 137.3 seconds RetCode: 0 Status: OK CheckDir: surfaltr.Rcheck Warnings: 0