Package: surfaltr Version: 1.15.0 Command: /Library/Frameworks/R.framework/Resources/bin/R CMD INSTALL surfaltr StartedAt: 2025-07-22 15:18:46 -0400 (Tue, 22 Jul 2025) EndedAt: 2025-07-22 15:18:47 -0400 (Tue, 22 Jul 2025) EllapsedTime: 1.1 seconds RetCode: 1 Status: ERROR