Package: surfaltr Version: 1.15.0 Command: /Library/Frameworks/R.framework/Resources/bin/R CMD build --keep-empty-dirs --no-resave-data surfaltr StartedAt: 2025-07-22 17:43:26 -0400 (Tue, 22 Jul 2025) EndedAt: 2025-07-22 17:43:27 -0400 (Tue, 22 Jul 2025) EllapsedTime: 1.0 seconds RetCode: 1 Status: ERROR PackageFile: None PackageFileSize: NA