############################################################################## ############################################################################## ### ### Running command: ### ### /Library/Frameworks/R.framework/Resources/bin/R CMD build --keep-empty-dirs --no-resave-data surfaltr ### ############################################################################## ############################################################################## * checking for file ‘surfaltr/DESCRIPTION’ ... OK * preparing ‘surfaltr’: * checking DESCRIPTION meta-information ... OK * installing the package to build vignettes ----------------------------------- ERROR: dependency ‘msa’ is not available for package ‘surfaltr’ Perhaps try a variation of: install.packages('msa') * removing ‘/private/var/folders/r0/l4fjk6cj5xj0j3brt4bplpl40000gt/T/RtmpaHwRUV/Rinst1826b55bd06ee/surfaltr’ ----------------------------------- ERROR: package installation failed