Package: surfaltr Version: 1.15.0 Command: rm -rf surfaltr.buildbin-libdir && mkdir surfaltr.buildbin-libdir && /Users/biocbuild/BBS/utils/build-universal.sh surfaltr_1.15.0.tar.gz /Library/Frameworks/R.framework/Resources/bin/R surfaltr.buildbin-libdir StartedAt: 2025-10-03 22:57:56 -0400 (Fri, 03 Oct 2025) EndedAt: 2025-10-03 22:58:04 -0400 (Fri, 03 Oct 2025) EllapsedTime: 8.2 seconds RetCode: 0 Status: OK PackageFile: surfaltr_1.15.0.tgz PackageFileSize: 1.847 MiB