Package: supraHex Version: 1.45.1 Command: F:\biocbuild\bbs-3.22-bioc\R\bin\R.exe CMD INSTALL supraHex StartedAt: 2025-04-08 15:36:47 -0400 (Tue, 08 Apr 2025) EndedAt: 2025-04-08 15:37:19 -0400 (Tue, 08 Apr 2025) EllapsedTime: 32.1 seconds RetCode: 0 Status: OK