Package: supersigs Version: 1.17.0 Command: /home/biocbuild/bbs-3.22-bioc/R/bin/R CMD build --keep-empty-dirs --no-resave-data --md5 supersigs StartedAt: 2025-07-14 19:28:32 -0400 (Mon, 14 Jul 2025) EndedAt: 2025-07-14 19:29:35 -0400 (Mon, 14 Jul 2025) EllapsedTime: 63.1 seconds RetCode: 0 Status: OK PackageFile: supersigs_1.17.0.tar.gz PackageFileSize: 2.596 MiB