Package: subSeq Version: 1.39.0 Command: /Library/Frameworks/R.framework/Resources/bin/R CMD INSTALL subSeq StartedAt: 2025-07-01 15:07:32 -0400 (Tue, 01 Jul 2025) EndedAt: 2025-07-01 15:07:35 -0400 (Tue, 01 Jul 2025) EllapsedTime: 2.8 seconds RetCode: 0 Status: OK