Package: subSeq Version: 1.39.0 Command: /Library/Frameworks/R.framework/Resources/bin/R CMD check --install=check:subSeq.install-out.txt --library=/Library/Frameworks/R.framework/Resources/library --no-vignettes --timings subSeq_1.39.0.tar.gz StartedAt: 2025-07-01 21:42:14 -0400 (Tue, 01 Jul 2025) EndedAt: 2025-07-01 21:43:11 -0400 (Tue, 01 Jul 2025) EllapsedTime: 56.7 seconds RetCode: 0 Status: OK CheckDir: subSeq.Rcheck Warnings: 0