Package: subSeq Version: 1.39.0 Command: /Library/Frameworks/R.framework/Resources/bin/R CMD build --keep-empty-dirs --no-resave-data subSeq StartedAt: 2025-07-01 17:42:52 -0400 (Tue, 01 Jul 2025) EndedAt: 2025-07-01 17:43:08 -0400 (Tue, 01 Jul 2025) EllapsedTime: 16.2 seconds RetCode: 0 Status: OK PackageFile: subSeq_1.39.0.tar.gz PackageFileSize: 2.917 MiB