Package: subSeq Version: 1.39.0 Command: rm -rf subSeq.buildbin-libdir && mkdir subSeq.buildbin-libdir && /Users/biocbuild/BBS/utils/build-universal.sh subSeq_1.39.0.tar.gz /Library/Frameworks/R.framework/Resources/bin/R subSeq.buildbin-libdir StartedAt: 2025-07-01 22:36:56 -0400 (Tue, 01 Jul 2025) EndedAt: 2025-07-01 22:36:59 -0400 (Tue, 01 Jul 2025) EllapsedTime: 3.1 seconds RetCode: 0 Status: OK PackageFile: subSeq_1.39.0.tgz PackageFileSize: 2.948 MiB