Package: strandCheckR Version: 1.27.0 Command: /home/biocbuild/R/R/bin/R CMD check --install=check:strandCheckR.install-out.txt --library=/home/biocbuild/R/R/site-library --no-vignettes --timings strandCheckR_1.27.0.tar.gz StartedAt: 2025-06-27 11:56:29 -0000 (Fri, 27 Jun 2025) EndedAt: 2025-06-27 12:02:02 -0000 (Fri, 27 Jun 2025) EllapsedTime: 333.4 seconds RetCode: 0 Status: OK CheckDir: strandCheckR.Rcheck Warnings: 0