Package: strandCheckR Version: 1.27.0 Command: F:\biocbuild\bbs-3.22-bioc\R\bin\R.exe CMD INSTALL strandCheckR StartedAt: 2025-06-29 16:24:03 -0400 (Sun, 29 Jun 2025) EndedAt: 2025-06-29 16:25:02 -0400 (Sun, 29 Jun 2025) EllapsedTime: 58.1 seconds RetCode: 0 Status: OK