Package: strandCheckR Version: 1.27.0 Command: /Library/Frameworks/R.framework/Resources/bin/R CMD build --keep-empty-dirs --no-resave-data strandCheckR StartedAt: 2025-06-29 17:43:55 -0400 (Sun, 29 Jun 2025) EndedAt: 2025-06-29 17:44:21 -0400 (Sun, 29 Jun 2025) EllapsedTime: 25.3 seconds RetCode: 0 Status: OK PackageFile: strandCheckR_1.27.0.tar.gz PackageFileSize: 1.234 MiB