Package: statTarget Version: 1.39.0 Command: /Library/Frameworks/R.framework/Resources/bin/R CMD build --keep-empty-dirs --no-resave-data statTarget StartedAt: 2025-07-04 17:41:59 -0400 (Fri, 04 Jul 2025) EndedAt: 2025-07-04 17:42:05 -0400 (Fri, 04 Jul 2025) EllapsedTime: 5.1 seconds RetCode: 0 Status: OK PackageFile: statTarget_1.39.0.tar.gz PackageFileSize: 779.1 KiB