Package: statTarget Version: 1.39.0 Command: rm -rf statTarget.buildbin-libdir && mkdir statTarget.buildbin-libdir && /Users/biocbuild/BBS/utils/build-universal.sh statTarget_1.39.0.tar.gz /Library/Frameworks/R.framework/Resources/bin/R statTarget.buildbin-libdir StartedAt: 2025-07-04 22:36:15 -0400 (Fri, 04 Jul 2025) EndedAt: 2025-07-04 22:36:18 -0400 (Fri, 04 Jul 2025) EllapsedTime: 3.0 seconds RetCode: 0 Status: OK PackageFile: statTarget_1.39.0.tgz PackageFileSize: 973.3 KiB