Package: stPipe Version: 0.99.994 Command: /home/biocbuild/bbs-3.22-bioc/R/bin/R CMD INSTALL stPipe StartedAt: 2025-10-05 15:38:45 -0400 (Sun, 05 Oct 2025) EndedAt: 2025-10-05 15:39:34 -0400 (Sun, 05 Oct 2025) EllapsedTime: 48.3 seconds RetCode: 0 Status: OK