Package: stPipe Version: 0.99.994 Command: /Library/Frameworks/R.framework/Resources/bin/R CMD INSTALL stPipe StartedAt: 2025-10-06 15:17:18 -0400 (Mon, 06 Oct 2025) EndedAt: 2025-10-06 15:17:25 -0400 (Mon, 06 Oct 2025) EllapsedTime: 6.6 seconds RetCode: 1 Status: ERROR