Package: stJoincount Version: 1.11.0 Command: /home/biocbuild/R/R/bin/R CMD check --install=check:stJoincount.install-out.txt --library=/home/biocbuild/R/R/site-library --no-vignettes --timings stJoincount_1.11.0.tar.gz StartedAt: 2025-07-11 12:50:44 -0000 (Fri, 11 Jul 2025) EndedAt: 2025-07-11 12:59:21 -0000 (Fri, 11 Jul 2025) EllapsedTime: 516.7 seconds RetCode: 0 Status: OK CheckDir: stJoincount.Rcheck Warnings: 0