Package: stJoincount Version: 1.11.0 Command: /Library/Frameworks/R.framework/Resources/bin/R CMD build --keep-empty-dirs --no-resave-data stJoincount StartedAt: 2025-07-21 17:42:34 -0400 (Mon, 21 Jul 2025) EndedAt: 2025-07-21 17:43:06 -0400 (Mon, 21 Jul 2025) EllapsedTime: 32.4 seconds RetCode: 0 Status: OK PackageFile: stJoincount_1.11.0.tar.gz PackageFileSize: 2.672 MiB