Package: ssviz Version: 1.43.0 Command: F:\biocbuild\bbs-3.22-bioc\R\bin\R.exe CMD INSTALL ssviz StartedAt: 2025-07-11 15:50:35 -0400 (Fri, 11 Jul 2025) EndedAt: 2025-07-11 15:51:03 -0400 (Fri, 11 Jul 2025) EllapsedTime: 27.9 seconds RetCode: 0 Status: OK