Package: ssviz Version: 1.43.0 Command: rm -rf ssviz.buildbin-libdir && mkdir ssviz.buildbin-libdir && F:\biocbuild\bbs-3.22-bioc\R\bin\R.exe CMD INSTALL --build --library=ssviz.buildbin-libdir ssviz_1.43.0.tar.gz StartedAt: 2025-07-12 09:59:01 -0400 (Sat, 12 Jul 2025) EndedAt: 2025-07-12 09:59:28 -0400 (Sat, 12 Jul 2025) EllapsedTime: 27.0 seconds RetCode: 0 Status: OK PackageFile: ssviz_1.43.0.zip PackageFileSize: 976.4 KiB