Package: ssviz Version: 1.43.0 Command: /Library/Frameworks/R.framework/Resources/bin/R CMD INSTALL ssviz StartedAt: 2025-07-02 15:20:50 -0400 (Wed, 02 Jul 2025) EndedAt: 2025-07-02 15:21:10 -0400 (Wed, 02 Jul 2025) EllapsedTime: 20.5 seconds RetCode: 0 Status: OK