Package: ssviz Version: 1.43.0 Maintainer: Diana Low MaintainerEmail: lowdiana at gmail.com git_url: https://git.bioconductor.org/packages/ssviz git_branch: devel git_last_commit: 7e6b9df git_last_commit_date: 2025-04-15 10:32:01 -0400 (Tue, 15 Apr 2025)