Package: ssrch Version: 1.25.0 Command: F:\biocbuild\bbs-3.22-bioc\R\bin\R.exe CMD INSTALL ssrch StartedAt: 2025-07-21 15:49:46 -0400 (Mon, 21 Jul 2025) EndedAt: 2025-07-21 15:50:00 -0400 (Mon, 21 Jul 2025) EllapsedTime: 14.4 seconds RetCode: 0 Status: OK