Package: ssrch Version: 1.25.0 Command: F:\biocbuild\bbs-3.22-bioc\R\bin\R.exe CMD check --no-multiarch --install=check:ssrch.install-out.txt --library=F:\biocbuild\bbs-3.22-bioc\R\library --no-vignettes --timings ssrch_1.25.0.tar.gz StartedAt: 2025-07-23 07:16:35 -0400 (Wed, 23 Jul 2025) EndedAt: 2025-07-23 07:17:17 -0400 (Wed, 23 Jul 2025) EllapsedTime: 42.0 seconds RetCode: 0 Status: OK CheckDir: ssrch.Rcheck Warnings: 0