Package: ssrch Version: 1.25.0 Command: chmod a+r ssrch -R && F:\biocbuild\bbs-3.22-bioc\R\bin\R.exe CMD build --keep-empty-dirs --no-resave-data ssrch StartedAt: 2025-07-21 22:28:59 -0400 (Mon, 21 Jul 2025) EndedAt: 2025-07-21 22:29:18 -0400 (Mon, 21 Jul 2025) EllapsedTime: 18.8 seconds RetCode: 0 Status: OK PackageFile: ssrch_1.25.0.tar.gz PackageFileSize: 1.444 MiB