Package: ssrch Version: 1.25.0 Command: /Library/Frameworks/R.framework/Resources/bin/R CMD check --install=check:ssrch.install-out.txt --library=/Library/Frameworks/R.framework/Resources/library --no-vignettes --timings ssrch_1.25.0.tar.gz StartedAt: 2025-07-13 21:38:34 -0400 (Sun, 13 Jul 2025) EndedAt: 2025-07-13 21:38:49 -0400 (Sun, 13 Jul 2025) EllapsedTime: 15.2 seconds RetCode: 0 Status: OK CheckDir: ssrch.Rcheck Warnings: 0