Package: ssrch Version: 1.25.0 Command: /Library/Frameworks/R.framework/Resources/bin/R CMD build --keep-empty-dirs --no-resave-data ssrch StartedAt: 2025-07-13 17:41:46 -0400 (Sun, 13 Jul 2025) EndedAt: 2025-07-13 17:41:50 -0400 (Sun, 13 Jul 2025) EllapsedTime: 4.0 seconds RetCode: 0 Status: OK PackageFile: ssrch_1.25.0.tar.gz PackageFileSize: 1.443 MiB