Package: ssrch Version: 1.25.0 Command: rm -rf ssrch.buildbin-libdir && mkdir ssrch.buildbin-libdir && /Users/biocbuild/BBS/utils/build-universal.sh ssrch_1.25.0.tar.gz /Library/Frameworks/R.framework/Resources/bin/R ssrch.buildbin-libdir StartedAt: 2025-07-13 22:34:50 -0400 (Sun, 13 Jul 2025) EndedAt: 2025-07-13 22:34:53 -0400 (Sun, 13 Jul 2025) EllapsedTime: 3.1 seconds RetCode: 0 Status: OK PackageFile: ssrch_1.25.0.tgz PackageFileSize: 1.386 MiB