Package: ssize Version: 1.83.0 Command: /Library/Frameworks/R.framework/Resources/bin/R CMD INSTALL ssize StartedAt: 2025-10-06 15:04:46 -0400 (Mon, 06 Oct 2025) EndedAt: 2025-10-06 15:05:31 -0400 (Mon, 06 Oct 2025) EllapsedTime: 45.0 seconds RetCode: 0 Status: OK