Package: ssize Version: 1.83.0 Command: /Library/Frameworks/R.framework/Resources/bin/R CMD check --install=check:ssize.install-out.txt --library=/Library/Frameworks/R.framework/Resources/library --no-vignettes --timings ssize_1.83.0.tar.gz StartedAt: 2025-10-06 00:58:04 -0400 (Mon, 06 Oct 2025) EndedAt: 2025-10-06 00:58:35 -0400 (Mon, 06 Oct 2025) EllapsedTime: 31.0 seconds RetCode: 0 Status: OK CheckDir: ssize.Rcheck Warnings: 0