Package: ssize Version: 1.83.0 Command: /Library/Frameworks/R.framework/Resources/bin/R CMD build --keep-empty-dirs --no-resave-data ssize StartedAt: 2025-10-05 19:12:07 -0400 (Sun, 05 Oct 2025) EndedAt: 2025-10-05 19:12:26 -0400 (Sun, 05 Oct 2025) EllapsedTime: 18.3 seconds RetCode: 0 Status: OK PackageFile: ssize_1.83.0.tar.gz PackageFileSize: 544.5 KiB