Package: sscu Version: 2.39.0 Command: /home/biocbuild/R/R/bin/R CMD check --install=check:sscu.install-out.txt --library=/home/biocbuild/R/R/site-library --no-vignettes --timings sscu_2.39.0.tar.gz StartedAt: 2025-07-11 12:46:50 -0000 (Fri, 11 Jul 2025) EndedAt: 2025-07-11 12:48:38 -0000 (Fri, 11 Jul 2025) EllapsedTime: 108.1 seconds RetCode: 0 Status: WARNINGS CheckDir: sscu.Rcheck Warnings: 1